BEGIN:VCALENDAR
VERSION:2.0
PRODID:-//OKPSA - ECPv6.15.20//NONSGML v1.0//EN
CALSCALE:GREGORIAN
METHOD:PUBLISH
X-WR-CALNAME:OKPSA
X-ORIGINAL-URL:https://okpsa.org
X-WR-CALDESC:Events for OKPSA
REFRESH-INTERVAL;VALUE=DURATION:PT1H
X-Robots-Tag:noindex
X-PUBLISHED-TTL:PT1H
BEGIN:VTIMEZONE
TZID:America/Chicago
BEGIN:DAYLIGHT
TZOFFSETFROM:-0600
TZOFFSETTO:-0500
TZNAME:CDT
DTSTART:20220313T080000
END:DAYLIGHT
BEGIN:STANDARD
TZOFFSETFROM:-0500
TZOFFSETTO:-0600
TZNAME:CST
DTSTART:20221106T070000
END:STANDARD
BEGIN:DAYLIGHT
TZOFFSETFROM:-0600
TZOFFSETTO:-0500
TZNAME:CDT
DTSTART:20230312T080000
END:DAYLIGHT
BEGIN:STANDARD
TZOFFSETFROM:-0500
TZOFFSETTO:-0600
TZNAME:CST
DTSTART:20231105T070000
END:STANDARD
BEGIN:DAYLIGHT
TZOFFSETFROM:-0600
TZOFFSETTO:-0500
TZNAME:CDT
DTSTART:20240310T080000
END:DAYLIGHT
BEGIN:STANDARD
TZOFFSETFROM:-0500
TZOFFSETTO:-0600
TZNAME:CST
DTSTART:20241103T070000
END:STANDARD
END:VTIMEZONE
BEGIN:VEVENT
DTSTART;TZID=America/Chicago:20230118T113000
DTEND;TZID=America/Chicago:20230118T130000
DTSTAMP:20260421T062702
CREATED:20221201T162558Z
LAST-MODIFIED:20230201T145241Z
UID:10000002-1674041400-1674046800@okpsa.org
SUMMARY:Kirsten Land\, Land Enterprises Roofing
DESCRIPTION:Kirsten Land\, owner of Land Enterprises Roofing\, will be our speaker in January. Kirsten will share how losing her spouse and business partner impacted her business\, and how she’s continued to grow the business since then. \nAbout Kirsten Land \nKirsten married Land Enterprises Roofing founder Brian in 1998 but didn’t officially join the Land Enterprises Roofing team until 2009. Prior to that\, she was a special education teacher with Edmond Public Schools. Coming from an educational background\, she knows all about forms and processes\, and she helped implement most of the current processes for the company. She loves that the entire team is always seeking ways to better serve the customer\, and she enjoys listening to customers and helping them through the process. Most of her spare time is dedicated to her two boys’ activities\, including piano\, karate\, baseball\, basketball\, and school. Personally\, she enjoys learning about fashion and home design\, taking pictures\, and making photo books. \nAbout Land Enterprises Roofing \nLand Enterprises Roofing provides residential roofing and commercial roofing services in the Edmond\, OK\, and greater Oklahoma City\, OK\, metro areas\, including Norman\, Moore\, Yukon\, Mustang\, Chickasha\, Choctaw\, Harrah\, and Stillwater. \nLand is committed to providing quality materials and workmanship on every job to make sure their customers are satisfied—and because it’s the right thing to do. They can help you navigate the insurance claim process\, and they’ll manage all of the subcontractors necessary for your entire claim\, including roofing\, gutters\, garage doors\, fencing\, painting\, and more. \n\n \n 
URL:https://okpsa.org/event/kirsten-land-land-enterprises-roofing/
LOCATION:V2 Events at Vast\, Devon Tower\, 333 W Sheridan Ave\, 50th Floor\, Oklahoma City\, OK\, 73102\, United States
CATEGORIES:Luncheons
ATTACH;FMTTYPE=image/jpeg:https://okpsa.org/wp-content/uploads/2022/10/Kirsten-Land.jpg
END:VEVENT
END:VCALENDAR